BEGIN:VCALENDAR
VERSION:2.0
PRODID:-//Tukios.com/
BEGIN:VEVENT
UID:89818f3d-61c6-452d-b1a7-780425dbd9ab@www.wilkersonfuneral.com
DTSTAMP:20260424T000756Z
DTSTART:20260425T170000Z
DTEND:20260425T180000Z
SUMMARY:Visitation
DESCRIPTION:
URL:https://www.wilkersonfuneral.com/obituaries/tia-mabry
LOCATION:Wilkerson Funeral Home 1909 Richardson Drive  Reidsville NC 
	27320
GEO:36.3383227;-79.6827914
END:VEVENT
END:VCALENDAR