BEGIN:VCALENDAR
VERSION:2.0
PRODID:-//Tukios.com/
BEGIN:VEVENT
UID:995a3b48-c1db-4962-8df2-bd23ce1049ad@www.wilkersonfuneral.com
DTSTAMP:20260424T001237Z
DTSTART:20260425T180000Z
DTEND:20260425T190000Z
SUMMARY:Celebration of Life
DESCRIPTION:
URL:https://www.wilkersonfuneral.com/obituaries/tia-mabry
LOCATION:Wilkerson Funeral Home 1909 Richardson Drive  Reidsville NC 
	27320
GEO:36.3383227;-79.6827914
END:VEVENT
END:VCALENDAR