BEGIN:VCALENDAR
VERSION:2.0
PRODID:-//Tukios.com/
BEGIN:VEVENT
UID:0355c6f0-4d04-40bd-ae50-351211f9f204@www.wilkersonfuneral.com
DTSTAMP:20260420T222936Z
DTSTART:20260422T160000Z
DTEND:20260422T170000Z
SUMMARY:Graveside Service
DESCRIPTION:
URL:https://www.wilkersonfuneral.com/obituaries/james-toler
LOCATION: 1530 Barnes St  Reidsville NC 27320
GEO:36.3430416;-79.6544866
END:VEVENT
END:VCALENDAR