BEGIN:VCALENDAR
VERSION:2.0
PRODID:-//Tukios.com/
BEGIN:VEVENT
UID:0cc8f7b5-0fbd-4bd7-8ef0-d2a084bceb74@www.wilkersonfuneral.com
DTSTAMP:20260426T022913Z
DTSTART:20260502T180000Z
DTEND:20260502T190000Z
SUMMARY:Funeral Service
DESCRIPTION:
URL:https://www.wilkersonfuneral.com/obituaries/charles-williams
LOCATION:Midway United Methodist Church 10930 US-158  Reidsville NC 27320
GEO:36.2738132;-79.7820459
END:VEVENT
END:VCALENDAR