BEGIN:VCALENDAR
VERSION:2.0
PRODID:-//Tukios.com/
BEGIN:VEVENT
UID:bacc486e-88df-4ebc-aeb7-e7d923eec122@www.wilkersonfuneral.com
DTSTAMP:20260426T022759Z
DTSTART:20260502T170000Z
DTEND:20260502T174500Z
SUMMARY:Visitation
DESCRIPTION:
URL:https://www.wilkersonfuneral.com/obituaries/charles-williams
LOCATION:Midway United Methodist Church 10930 US-158  Reidsville NC 27320
GEO:36.2738132;-79.7820459
END:VEVENT
END:VCALENDAR