BEGIN:VCALENDAR
VERSION:2.0
PRODID:-//Tukios.com/
BEGIN:VEVENT
UID:acb1f88e-9cae-4ca2-8cf3-801956cead63@www.wilkersonfuneral.com
DTSTAMP:20260425T193257Z
DTSTART:20260501T170000Z
DTEND:20260501T180000Z
SUMMARY:Visitation
DESCRIPTION:
URL:https://www.wilkersonfuneral.com/obituaries/barbara-soyars
LOCATION:Mt. Hermon Baptist Church 1611 Ashley Loop  Reidsville NC 27320
GEO:36.4317435;-79.7262226
END:VEVENT
END:VCALENDAR