BEGIN:VCALENDAR
VERSION:2.0
PRODID:-//Tukios.com/
BEGIN:VEVENT
UID:3b2e8dd0-7d5f-45a9-8a36-be24bef2fab9@www.wilkersonfuneral.com
DTSTAMP:20260425T193052Z
DTSTART:20260501T180000Z
DTEND:20260501T190000Z
SUMMARY:Funeral Service
DESCRIPTION:
URL:https://www.wilkersonfuneral.com/obituaries/barbara-soyars
LOCATION:Mt Hermon Baptist Church 1611 Ashley Loop  Reidsville NC 27320
GEO:36.4317435;-79.7262226
END:VEVENT
END:VCALENDAR